BEGIN:VCALENDAR
PRODID:-//ACXPA//CX Roundtables//EN
VERSION:2.0
CALSCALE:GREGORIAN
METHOD:PUBLISH
X-WR-CALNAME:ACXPA CX Roundtables
X-WR-TIMEZONE:Australia/Melbourne

BEGIN:VTIMEZONE
TZID:Australia/Melbourne
X-LIC-LOCATION:Australia/Melbourne
BEGIN:DAYLIGHT
TZOFFSETFROM:+1000
TZOFFSETTO:+1100
TZNAME:AEDT
DTSTART:19701004T020000
RRULE:FREQ=YEARLY;BYMONTH=10;BYDAY=SU;BYSETPOS=1
END:DAYLIGHT
BEGIN:STANDARD
TZOFFSETFROM:+1100
TZOFFSETTO:+1000
TZNAME:AEST
DTSTART:19700405T030000
RRULE:FREQ=YEARLY;BYMONTH=4;BYDAY=SU;BYSETPOS=1
END:STANDARD
END:VTIMEZONE

BEGIN:VEVENT
UID:acxpa-cx-roundtables-monthly@acxpa.com.au
SUMMARY:ACXPA CX Roundtable (Live)
DESCRIPTION:Monthly CX Roundtable — live session. You’ll receive an agenda + viewing link closer to each event.
LOCATION:Online
DTSTART;TZID=Australia/Melbourne:20260304T140000
DTEND;TZID=Australia/Melbourne:20260304T150000
RRULE:FREQ=MONTHLY;BYDAY=WE;BYSETPOS=1;BYHOUR=14;BYMINUTE=0;BYSECOND=0
STATUS:CONFIRMED
TRANSP:OPAQUE
END:VEVENT

END:VCALENDAR